BEGIN:VCALENDAR
VERSION:2.0
PRODID:-//wp-events-plugin.com//7.2.3.1//EN
TZID:Europe/London
X-WR-TIMEZONE:Europe/London
BEGIN:VEVENT
UID:67@radissonbludurham.com
DTSTART:20260516T140000Z
DTEND:20260517T110000Z
DTSTAMP:20260223T134745Z
URL:https://radissonbludurham.com/whats-on/allo-allo-weekend/
SUMMARY:'Allo 'Allo Weekend
DESCRIPTION:Join La Resistance for the weekend\, with some extra special en
 tertainment from the 'Allo 'Allo team.
ATTACH;FMTTYPE=image/jpeg:https://radissonbludurham.com/wp-content/uploads
 /2026/02/Allo-Allo-Weekend-1080x1080px-Cream-Tea.webp
CATEGORIES:Special event
END:VEVENT
END:VCALENDAR