BEGIN:VCALENDAR
VERSION:2.0
PRODID:-//wp-events-plugin.com//7.2.3.1//EN
TZID:Europe/London
X-WR-TIMEZONE:Europe/London
BEGIN:VEVENT
UID:68@radissonbludurham.com
DTSTART:20260516T193000Z
DTEND:20260516T235900Z
DTSTAMP:20260223T135351Z
URL:https://radissonbludurham.com/whats-on/allo-allo-dinner-show/
SUMMARY:'Allo 'Allo Dinner Show
DESCRIPTION:You are cordially invited to an unforgettable evening at the 
 ‘Allo ‘Allo Dining Invitation – an interactive comedy dinner show se
 t in Rene and Edith’s charming cafe.
ATTACH;FMTTYPE=image/jpeg:https://radissonbludurham.com/wp-content/uploads
 /2026/02/Allo-Allo-1080x1080px.webp
CATEGORIES:Dining,Special event
END:VEVENT
END:VCALENDAR